BEGIN:VCALENDAR
VERSION:2.0
PRODID:-//Saalfelden-Leogang.com//NONSGML kigkonsult.se iCalcreator 2.22.1/
 /EN
METHOD:PUBLISH
X-WR-CALNAME;LANGUAGE=en:Saalfelden-Leogang.com
X-WR-CALDESC;LANGUAGE=en:Saalfelden-Leogang.com
X-WR-TIMEZONE;LANGUAGE=en:Europe/Berlin
BEGIN:VEVENT
UID:20260420T102200CEST-1994daM0NC@Saalfelden-Leogang.com
DTSTAMP:20260420T082200Z
DESCRIPTION;LANGUAGE=en:From 11 - 14 June 2026 the WHOOP UCI Mountain Bike 
 World Series will again make a stop in Austria's largest bike region\, whe
 re spectacular races in the formats Downhill\, Corss-Country and Enduro wi
 ll take place.
DTSTART:20260611T055206Z
DTEND:20260611T055206Z
LOCATION;LANGUAGE=en:Epic Bikepark Leogang
SUMMARY;LANGUAGE=en:WHOOP UCI Mountain Bike World Series
END:VEVENT
BEGIN:VEVENT
UID:20260420T102200CEST-1995csLegh@Saalfelden-Leogang.com
DTSTAMP:20260420T082200Z
DESCRIPTION;LANGUAGE=en:From 11 - 14 June 2026 the WHOOP UCI Mountain Bike 
 World Series will again make a stop in Austria's largest bike region\, whe
 re spectacular races in the formats Downhill\, Corss-Country and Enduro wi
 ll take place.
DTSTART:20260612T055206Z
DTEND:20260612T055206Z
LOCATION;LANGUAGE=en:Epic Bikepark Leogang
SUMMARY;LANGUAGE=en:WHOOP UCI Mountain Bike World Series
END:VEVENT
BEGIN:VEVENT
UID:20260420T102200CEST-1996EfuvBZ@Saalfelden-Leogang.com
DTSTAMP:20260420T082200Z
DESCRIPTION;LANGUAGE=en:From 11 - 14 June 2026 the WHOOP UCI Mountain Bike 
 World Series will again make a stop in Austria's largest bike region\, whe
 re spectacular races in the formats Downhill\, Corss-Country and Enduro wi
 ll take place.
DTSTART:20260613T055206Z
DTEND:20260613T055206Z
LOCATION;LANGUAGE=en:Epic Bikepark Leogang
SUMMARY;LANGUAGE=en:WHOOP UCI Mountain Bike World Series
END:VEVENT
BEGIN:VEVENT
UID:20260420T102200CEST-1996j86Rbs@Saalfelden-Leogang.com
DTSTAMP:20260420T082200Z
DESCRIPTION;LANGUAGE=en:From 11 - 14 June 2026 the WHOOP UCI Mountain Bike 
 World Series will again make a stop in Austria's largest bike region\, whe
 re spectacular races in the formats Downhill\, Corss-Country and Enduro wi
 ll take place.
DTSTART:20260614T055206Z
DTEND:20260614T055206Z
LOCATION;LANGUAGE=en:Epic Bikepark Leogang
SUMMARY;LANGUAGE=en:WHOOP UCI Mountain Bike World Series
END:VEVENT
END:VCALENDAR
